BEGIN:VCALENDAR
VERSION:2.0
PRODID:-//Tukios.com/
BEGIN:VEVENT
UID:6705b172-450f-41bd-9a91-09c5f353a0a6@www.moodyconnollyfuneralhome.com
DTSTAMP:20260420T221711Z
DTSTART:20260712T190000Z
DTEND:20260712T200000Z
SUMMARY:Memorial Service
DESCRIPTION:
URL:https://www.moodyconnollyfuneralhome.com/obituaries/robert-corriadini
LOCATION:Moody-Connolly Funeral Home and Crematory 181 S Caldwell St  
	Brevard NC 28712
GEO:35.2318723;-82.7366529
END:VEVENT
END:VCALENDAR